BEGIN:VCALENDAR
VERSION:2.0
PRODID:icalendar-ruby
CALSCALE:GREGORIAN
METHOD:PUBLISH
BEGIN:VEVENT
DTSTAMP:20260420T055105Z
UID:87-700935@newlifelogan.com
DTSTART:20260602T120000Z
DTEND:20260606T050000Z
CLASS:PUBLIC
CREATED:20260407T134834
DESCRIPTION:Youth Camp is more than just a fun week—it’s a chance to ge
 t away from the noise and really meet with God.\nThere will be games\, lau
 ghter\, and unforgettable moments with friends—but the heart of camp is 
 what God does in you. Through worship\, messages\, and real conversations\
 , you’ll have space to grow in your faith and hear His voice in a real w
 ay.\nIt’s a week to reset\, go deeper\, and experience God like never be
 fore.\nCome ready for fun… and expect God to move.\nDate: June 2-5 2026
  \nREGISTRATION CLOSES ON MAY 6TH\n 
LAST-MODIFIED:20260407T134834
LOCATION:
SUMMARY:YOUTH CAMP 2026
URL;VALUE=URI:https://newlifelogan.com/events/youth-camp-2026/2026-06-02
ATTACH;FILENAME=Blue-Yellow-and-Black-Simple-Bright-Church-Sunday-Worship-P
 resentation.jpg;FMTTYPE=image/jpeg:https://dq5pwpg1q8ru0.cloudfront.net/20
 26/04/07/19/24/09/55970eaa-9ca7-4a7c-8a25-1ff272641bea/Blue-Yellow-and-Bla
 ck-Simple-Bright-Church-Sunday-Worship-Presentation.jpg
END:VEVENT
END:VCALENDAR
