BEGIN:VCALENDAR
VERSION:2.0
PRODID:icalendar-ruby
CALSCALE:GREGORIAN
METHOD:PUBLISH
BEGIN:VEVENT
DTSTAMP:20260422T012033Z
UID:88-708951@newlifelogan.com
DTSTART:20260528T003000Z
DTEND:20260528T013000Z
CLASS:PUBLIC
CREATED:20260409T111658
DESCRIPTION:If you desire to grow in your prayer life or would like to lear
 n how and why we pray - we invite you to a 4-week study on prayer.\nWednes
 day nights\n6:30 - 7:30 pm\nTaught by Ray and Bev Wead
LAST-MODIFIED:20260409T111658
LOCATION:
SUMMARY:Power of Prayer
URL;VALUE=URI:https://newlifelogan.com/events/power-of-prayer/2026-05-27
ATTACH;FILENAME=the_power_of_prayer-title-2-Wide-16x9.jpg;FMTTYPE=image/jpe
 g:https://dq5pwpg1q8ru0.cloudfront.net/2026/04/09/17/16/58/4febbfe4-1634-4
 d24-8a8b-66c732be480f/the_power_of_prayer-title-2-Wide-16x9.jpg
END:VEVENT
END:VCALENDAR
