BEGIN:VCALENDAR
VERSION:2.0
PRODID:icalendar-ruby
CALSCALE:GREGORIAN
METHOD:PUBLISH
BEGIN:VEVENT
DTSTAMP:20260422T005132Z
UID:90-729077@newlifelogan.com
DTSTART:20260507T220000Z
DTEND:20260507T233000Z
CLASS:PUBLIC
CREATED:20260414T123831
DESCRIPTION:Calling all Christians in Cache County to come out and be unifi
 ed in this public prayer gathering to pray for God's will for the people o
 f Utah\, the Church\, and America
LAST-MODIFIED:20260414T123831
LOCATION:The Logan City Library - Conference Room B
SUMMARY:National Day of Prayer
URL;VALUE=URI:https://newlifelogan.com/events/national-day-of-prayer/2026-0
 5-07
ATTACH;FILENAME=national_day_of_prayer-title-1-Wide-16x9.jpg;FMTTYPE=image/
 jpeg:https://dq5pwpg1q8ru0.cloudfront.net/2026/04/14/18/38/31/8b67dbda-cd3
 1-4b97-a2d5-1a64a618aaf6/national_day_of_prayer-title-1-Wide-16x9.jpg
END:VEVENT
END:VCALENDAR
