BEGIN:VCALENDAR
VERSION:2.0
PRODID:icalendar-ruby
CALSCALE:GREGORIAN
METHOD:PUBLISH
BEGIN:VEVENT
DTSTAMP:20260423T162003Z
UID:12-765352@newlifelogan.com
DTSTART:20261010T140000Z
DTEND:20261010T150000Z
CLASS:PUBLIC
CREATED:20260423T092607
DESCRIPTION:The Men's Group meets every Saturday in the lobby of New Life
  Fellowship. They study the word together and build friendships. 
LAST-MODIFIED:20260423T092607
LOCATION:New Life Fellowship 
SUMMARY:Mens' Group
URL;VALUE=URI:https://newlifelogan.com/events/mens-group--12/2026-10-10
ATTACH;FILENAME=Unknown-2.jpeg;FMTTYPE=image/jpeg:https://dq5pwpg1q8ru0.clo
 udfront.net/2025/04/22/14/26/23/3ec5608f-af21-4ca6-82a3-68ddf9d375f3/Unkno
 wn-2.jpeg
END:VEVENT
END:VCALENDAR
