BEGIN:VCALENDAR
VERSION:2.0
PRODID:icalendar-ruby
CALSCALE:GREGORIAN
METHOD:PUBLISH
BEGIN:VEVENT
DTSTAMP:20260422T004749Z
UID:89-729076@newlifelogan.com
DTSTART:20260503T150000Z
DTEND:20260503T170000Z
CLASS:PUBLIC
CREATED:20260414T120505
DESCRIPTION:If you’re graduating from high school or college\, let us kno
 w!\nWe’ll be honoring all of our graduates on Sunday\, May 3.\nSimply cl
 ick on the link and fill out your information so we can recognize you.\nLe
 t’s celebrate this big milestone together!
LAST-MODIFIED:20260414T120505
LOCATION:
SUMMARY:Graduating This Year? We Want to Celebrate You!
URL;VALUE=URI:https://newlifelogan.com/events/graduating-this-year-we-want-
 to-celebrate-you/2026-05-03
ATTACH;FILENAME=way_to_go_graduates-title-1-Wide-16x9.jpg;FMTTYPE=image/jpe
 g:https://dq5pwpg1q8ru0.cloudfront.net/2026/04/14/18/05/04/2ac9f612-6db0-4
 814-a42d-2017e3b8d36d/way_to_go_graduates-title-1-Wide-16x9.jpg
END:VEVENT
END:VCALENDAR
