BEGIN:VCALENDAR
VERSION:2.0
PRODID:icalendar-ruby
CALSCALE:GREGORIAN
METHOD:PUBLISH
BEGIN:VEVENT
DTSTAMP:20260425T211654Z
UID:5-774833@newlifelogan.com
DTSTART:20261025T163000Z
DTEND:20261025T173000Z
CLASS:PUBLIC
CREATED:20260425T142352
DESCRIPTION:Sunday Worship
LAST-MODIFIED:20260425T142352
LOCATION:
SUMMARY:2nd Worship Service
URL;VALUE=URI:https://newlifelogan.com/events/2nd-worship-service/2026-10-2
 5
END:VEVENT
END:VCALENDAR
