BEGIN:VCALENDAR
VERSION:2.0
PRODID:icalendar-ruby
CALSCALE:GREGORIAN
METHOD:PUBLISH
BEGIN:VEVENT
DTSTAMP:20260425T194324Z
UID:5-774148@newlifelogan.com
DTSTART:20261018T163000Z
DTEND:20261018T173000Z
CLASS:PUBLIC
CREATED:20260425T114216
DESCRIPTION:Sunday Worship
LAST-MODIFIED:20260425T114216
LOCATION:
SUMMARY:2nd Worship Service
URL;VALUE=URI:https://newlifelogan.com/events/2nd-worship-service/2026-10-1
 8
END:VEVENT
END:VCALENDAR
