BEGIN:VCALENDAR
VERSION:2.0
PRODID:icalendar-ruby
CALSCALE:GREGORIAN
METHOD:PUBLISH
BEGIN:VEVENT
DTSTAMP:20260423T221703Z
UID:16-766891@newlifelogan.com
DTSTART:20261101T160000Z
DTEND:20261101T170000Z
CLASS:PUBLIC
CREATED:20260423T151736
DESCRIPTION:1st Worship Service
LAST-MODIFIED:20260423T151736
LOCATION:
SUMMARY:1st Worship Service
URL;VALUE=URI:https://newlifelogan.com/events/1st-worship-service/2026-11-0
 1
END:VEVENT
END:VCALENDAR
