BEGIN:VCALENDAR
VERSION:2.0
PRODID:icalendar-ruby
CALSCALE:GREGORIAN
METHOD:PUBLISH
BEGIN:VEVENT
DTSTAMP:20260423T183111Z
UID:16-766206@newlifelogan.com
DTSTART:20261018T150000Z
DTEND:20261018T160000Z
CLASS:PUBLIC
CREATED:20260423T122255
DESCRIPTION:1st Worship Service
LAST-MODIFIED:20260423T122255
LOCATION:
SUMMARY:1st Worship Service
URL;VALUE=URI:https://newlifelogan.com/events/1st-worship-service/2026-10-1
 8
END:VEVENT
END:VCALENDAR
